BEGIN:VCALENDAR
VERSION:2.0
PRODID:-//Tobias Heller - ECPv6.15.11//NONSGML v1.0//EN
CALSCALE:GREGORIAN
METHOD:PUBLISH
X-ORIGINAL-URL:https://tobias-heller.de
X-WR-CALDESC:Veranstaltungen für Tobias Heller
REFRESH-INTERVAL;VALUE=DURATION:PT1H
X-Robots-Tag:noindex
X-PUBLISHED-TTL:PT1H
BEGIN:VTIMEZONE
TZID:Europe/Berlin
BEGIN:DAYLIGHT
TZOFFSETFROM:+0100
TZOFFSETTO:+0200
TZNAME:CEST
DTSTART:20250330T010000
END:DAYLIGHT
BEGIN:STANDARD
TZOFFSETFROM:+0200
TZOFFSETTO:+0100
TZNAME:CET
DTSTART:20251026T010000
END:STANDARD
BEGIN:DAYLIGHT
TZOFFSETFROM:+0100
TZOFFSETTO:+0200
TZNAME:CEST
DTSTART:20260329T010000
END:DAYLIGHT
BEGIN:STANDARD
TZOFFSETFROM:+0200
TZOFFSETTO:+0100
TZNAME:CET
DTSTART:20261025T010000
END:STANDARD
BEGIN:DAYLIGHT
TZOFFSETFROM:+0100
TZOFFSETTO:+0200
TZNAME:CEST
DTSTART:20270328T010000
END:DAYLIGHT
BEGIN:STANDARD
TZOFFSETFROM:+0200
TZOFFSETTO:+0100
TZNAME:CET
DTSTART:20271031T010000
END:STANDARD
END:VTIMEZONE
BEGIN:VEVENT
DTSTART;TZID=Europe/Berlin:20260609T110000
DTEND;TZID=Europe/Berlin:20260609T133000
DTSTAMP:20260421T193755
CREATED:20260401T203701Z
LAST-MODIFIED:20260401T203701Z
UID:1213-1781002800-1781011800@tobias-heller.de
SUMMARY:Petitionsausschuss
DESCRIPTION:
URL:https://tobias-heller.de/event/petitionsausschuss-2/
CATEGORIES:Termine
END:VEVENT
BEGIN:VEVENT
DTSTART;TZID=Europe/Berlin:20260610T130000
DTEND;TZID=Europe/Berlin:20260610T170000
DTSTAMP:20260421T193755
CREATED:20260401T203837Z
LAST-MODIFIED:20260401T203837Z
UID:1215-1781096400-1781110800@tobias-heller.de
SUMMARY:Landesnaturschutzbeirat
DESCRIPTION:
URL:https://tobias-heller.de/event/landesnaturschutzbeirat/
CATEGORIES:Termine
END:VEVENT
BEGIN:VEVENT
DTSTART;TZID=Europe/Berlin:20260611T100000
DTEND;TZID=Europe/Berlin:20260611T140000
DTSTAMP:20260421T193755
CREATED:20260401T203911Z
LAST-MODIFIED:20260401T203911Z
UID:1217-1781172000-1781186400@tobias-heller.de
SUMMARY:Ausschuss Umwelt & Landwirtschaft
DESCRIPTION:
URL:https://tobias-heller.de/event/ausschuss-umwelt-landwirtschaft-2/
CATEGORIES:Termine
END:VEVENT
BEGIN:VEVENT
DTSTART;TZID=Europe/Berlin:20260612T100000
DTEND;TZID=Europe/Berlin:20260612T150000
DTSTAMP:20260421T193755
CREATED:20260401T203941Z
LAST-MODIFIED:20260401T203941Z
UID:1219-1781258400-1781276400@tobias-heller.de
SUMMARY:Ausschuss Schule & Bildung
DESCRIPTION:
URL:https://tobias-heller.de/event/ausschuss-schule-bildung-2/
CATEGORIES:Termine
END:VEVENT
BEGIN:VEVENT
DTSTART;TZID=Europe/Berlin:20260615T100000
DTEND;TZID=Europe/Berlin:20260615T170000
DTSTAMP:20260421T193755
CREATED:20260401T202512Z
LAST-MODIFIED:20260401T202512Z
UID:1183-1781517600-1781542800@tobias-heller.de
SUMMARY:Das Fraktionsmobil kommt nach Torgau!
DESCRIPTION:Das Fraktionsmobil der AfD-Landtagsfraktion kommt am Montag\, den 15.06.2026 in der Zeit von 10 bis 17 Uhr in die Leipziger Straße (Rossman) nach Torgau. Wir freuen uns auf gute Gespräche und beantworten gern ihre Fragen und informieren über unsere Arbeit im Sächsischen Landtag.
URL:https://tobias-heller.de/event/das-fraktionsmobil-kommt-nach-torgau-2/
CATEGORIES:Termine
END:VEVENT
BEGIN:VEVENT
DTSTART;TZID=Europe/Berlin:20260618T080000
DTEND;TZID=Europe/Berlin:20260618T170000
DTSTAMP:20260421T193755
CREATED:20260401T204013Z
LAST-MODIFIED:20260401T204013Z
UID:1221-1781769600-1781802000@tobias-heller.de
SUMMARY:Fraktionssitzung
DESCRIPTION:
URL:https://tobias-heller.de/event/fraktionssitzung-3/
CATEGORIES:Termine
END:VEVENT
BEGIN:VEVENT
DTSTART;TZID=Europe/Berlin:20260618T183000
DTEND;TZID=Europe/Berlin:20260618T200000
DTSTAMP:20260421T193755
CREATED:20260401T204100Z
LAST-MODIFIED:20260401T204100Z
UID:1223-1781807400-1781812800@tobias-heller.de
SUMMARY:Stadtratssitzung Rathaus Oschatz
DESCRIPTION:
URL:https://tobias-heller.de/event/stadtratssitzung-rathaus-oschatz-3/
CATEGORIES:Termine
END:VEVENT
BEGIN:VEVENT
DTSTART;TZID=Europe/Berlin:20260622T170000
DTEND;TZID=Europe/Berlin:20260622T190000
DTSTAMP:20260421T193755
CREATED:20260401T204212Z
LAST-MODIFIED:20260401T204212Z
UID:1226-1782147600-1782154800@tobias-heller.de
SUMMARY:Verbandsversammlung des Zweckverbandes für den Nahverkehrsraum Leipzig
DESCRIPTION:
URL:https://tobias-heller.de/event/verbandsversammlung-des-zweckverbandes-fuer-den-nahverkehrsraum-leipzig/
CATEGORIES:Termine
END:VEVENT
BEGIN:VEVENT
DTSTART;TZID=Europe/Berlin:20260624T100000
DTEND;TZID=Europe/Berlin:20260624T230000
DTSTAMP:20260421T193755
CREATED:20260401T204240Z
LAST-MODIFIED:20260401T204240Z
UID:1228-1782295200-1782342000@tobias-heller.de
SUMMARY:30. Plenarsitzung
DESCRIPTION:
URL:https://tobias-heller.de/event/30-plenarsitzung/
CATEGORIES:Termine
END:VEVENT
BEGIN:VEVENT
DTSTART;TZID=Europe/Berlin:20260624T160000
DTEND;TZID=Europe/Berlin:20260624T180000
DTSTAMP:20260421T193755
CREATED:20260401T204418Z
LAST-MODIFIED:20260401T204418Z
UID:1232-1782316800-1782324000@tobias-heller.de
SUMMARY:Sitzung Kreistag Nordsachsen
DESCRIPTION:
URL:https://tobias-heller.de/event/sitzung-kreistag-nordsachsen/
CATEGORIES:Termine
END:VEVENT
BEGIN:VEVENT
DTSTART;TZID=Europe/Berlin:20260625T100000
DTEND;TZID=Europe/Berlin:20260625T220000
DTSTAMP:20260421T193755
CREATED:20260401T204318Z
LAST-MODIFIED:20260401T204318Z
UID:1230-1782381600-1782424800@tobias-heller.de
SUMMARY:31. Plenarsitzung
DESCRIPTION:
URL:https://tobias-heller.de/event/31-plenarsitzung/
CATEGORIES:Termine
END:VEVENT
END:VCALENDAR