BEGIN:VCALENDAR
VERSION:2.0
PRODID:-//Tobias Heller - ECPv6.15.11//NONSGML v1.0//EN
CALSCALE:GREGORIAN
METHOD:PUBLISH
X-WR-CALNAME:Tobias Heller
X-ORIGINAL-URL:https://tobias-heller.de
X-WR-CALDESC:Veranstaltungen für Tobias Heller
REFRESH-INTERVAL;VALUE=DURATION:PT1H
X-Robots-Tag:noindex
X-PUBLISHED-TTL:PT1H
BEGIN:VTIMEZONE
TZID:Europe/Berlin
BEGIN:DAYLIGHT
TZOFFSETFROM:+0100
TZOFFSETTO:+0200
TZNAME:CEST
DTSTART:20250330T010000
END:DAYLIGHT
BEGIN:STANDARD
TZOFFSETFROM:+0200
TZOFFSETTO:+0100
TZNAME:CET
DTSTART:20251026T010000
END:STANDARD
BEGIN:DAYLIGHT
TZOFFSETFROM:+0100
TZOFFSETTO:+0200
TZNAME:CEST
DTSTART:20260329T010000
END:DAYLIGHT
BEGIN:STANDARD
TZOFFSETFROM:+0200
TZOFFSETTO:+0100
TZNAME:CET
DTSTART:20261025T010000
END:STANDARD
BEGIN:DAYLIGHT
TZOFFSETFROM:+0100
TZOFFSETTO:+0200
TZNAME:CEST
DTSTART:20270328T010000
END:DAYLIGHT
BEGIN:STANDARD
TZOFFSETFROM:+0200
TZOFFSETTO:+0100
TZNAME:CET
DTSTART:20271031T010000
END:STANDARD
END:VTIMEZONE
BEGIN:VEVENT
DTSTART;TZID=Europe/Berlin:20260420T150000
DTEND;TZID=Europe/Berlin:20260420T180000
DTSTAMP:20260421T151559
CREATED:20260401T201926Z
LAST-MODIFIED:20260401T201926Z
UID:1169-1776697200-1776708000@tobias-heller.de
SUMMARY:20.04.26: MdB/MdL-Bürgersprechstunde in Torgau
DESCRIPTION:Am Montag\, den 20.04.26\, findet die MdB/MdL-Sprechstunde von 15 bis 18 Uhr am Platz der Freundschaft in Torgau-Nordwest statt.
URL:https://tobias-heller.de/event/20-04-26-mdb-mdl-buergersprechstunde-in-torgau/
CATEGORIES:Termine
END:VEVENT
BEGIN:VEVENT
DTSTART;TZID=Europe/Berlin:20260417T180000
DTEND;TZID=Europe/Berlin:20260417T190000
DTSTAMP:20260421T151559
CREATED:20260401T202912Z
LAST-MODIFIED:20260401T202912Z
UID:1189-1776448800-1776452400@tobias-heller.de
SUMMARY:28. Mühlenpreisverleihung Eilenburg
DESCRIPTION:
URL:https://tobias-heller.de/event/28-muehlenpreisverleihung-eilenburg/
CATEGORIES:Termine
END:VEVENT
BEGIN:VEVENT
DTSTART;TZID=Europe/Berlin:20260416T183000
DTEND;TZID=Europe/Berlin:20260416T200000
DTSTAMP:20260421T151559
CREATED:20260401T202749Z
LAST-MODIFIED:20260401T202749Z
UID:1187-1776364200-1776369600@tobias-heller.de
SUMMARY:Stadtratssitzung Rathaus Oschatz
DESCRIPTION:
URL:https://tobias-heller.de/event/stadtratssitzung-rathaus-oschatz/
CATEGORIES:Termine
END:VEVENT
BEGIN:VEVENT
DTSTART;TZID=Europe/Berlin:20260416T153000
DTEND;TZID=Europe/Berlin:20260416T160000
DTSTAMP:20260421T151559
CREATED:20260401T202704Z
LAST-MODIFIED:20260401T202704Z
UID:1185-1776353400-1776355200@tobias-heller.de
SUMMARY:Spatenstich GlasLab Torgau
DESCRIPTION:
URL:https://tobias-heller.de/event/spatenstich-glaslab-torgau/
CATEGORIES:Termine
END:VEVENT
BEGIN:VEVENT
DTSTART;TZID=Europe/Berlin:20260318T180000
DTEND;TZID=Europe/Berlin:20260318T200000
DTSTAMP:20260421T151559
CREATED:20260317T185113Z
LAST-MODIFIED:20260317T185113Z
UID:1151-1773856800-1773864000@tobias-heller.de
SUMMARY:Blauer Stammtisch in Dahlen OT Großböhla
DESCRIPTION:Am 18. März 2026 findet der nächste „Blaue Stammtisch“ mit unserem Landtagsabgeordneten Tobias Heller beim Heimatverein Großböhla statt.\nBitte melden Sie sich für die Veranstaltung per Mail an tobias.heller@slt.sachsen.de an.
URL:https://tobias-heller.de/event/blauer-stammtisch-in-dahlen-ot-grossboehla/
CATEGORIES:Termine
END:VEVENT
BEGIN:VEVENT
DTSTART;TZID=Europe/Berlin:20260302T150000
DTEND;TZID=Europe/Berlin:20260302T180000
DTSTAMP:20260421T151559
CREATED:20260301T200348Z
LAST-MODIFIED:20260317T180545Z
UID:1137-1772463600-1772474400@tobias-heller.de
SUMMARY:02.03.26: MdB/MdL-Sprechstunde in Oschatz
DESCRIPTION:Am Montag\, den 02.03.2026\, findet die MdB/MdL-Sprechstunde von 15 bis 18 Uhr auf dem Altmarkt in Oschatz statt.
URL:https://tobias-heller.de/event/02-03-26-mdb-mdl-sprechstunde-in-oschatz/
CATEGORIES:Termine
END:VEVENT
END:VCALENDAR