BEGIN:VCALENDAR
VERSION:2.0
PRODID:-//Tobias Heller - ECPv6.15.11//NONSGML v1.0//EN
CALSCALE:GREGORIAN
METHOD:PUBLISH
X-WR-CALNAME:Tobias Heller
X-ORIGINAL-URL:https://tobias-heller.de
X-WR-CALDESC:Veranstaltungen für Tobias Heller
REFRESH-INTERVAL;VALUE=DURATION:PT1H
X-Robots-Tag:noindex
X-PUBLISHED-TTL:PT1H
BEGIN:VTIMEZONE
TZID:Europe/Berlin
BEGIN:DAYLIGHT
TZOFFSETFROM:+0100
TZOFFSETTO:+0200
TZNAME:CEST
DTSTART:20250330T010000
END:DAYLIGHT
BEGIN:STANDARD
TZOFFSETFROM:+0200
TZOFFSETTO:+0100
TZNAME:CET
DTSTART:20251026T010000
END:STANDARD
BEGIN:DAYLIGHT
TZOFFSETFROM:+0100
TZOFFSETTO:+0200
TZNAME:CEST
DTSTART:20260329T010000
END:DAYLIGHT
BEGIN:STANDARD
TZOFFSETFROM:+0200
TZOFFSETTO:+0100
TZNAME:CET
DTSTART:20261025T010000
END:STANDARD
BEGIN:DAYLIGHT
TZOFFSETFROM:+0100
TZOFFSETTO:+0200
TZNAME:CEST
DTSTART:20270328T010000
END:DAYLIGHT
BEGIN:STANDARD
TZOFFSETFROM:+0200
TZOFFSETTO:+0100
TZNAME:CET
DTSTART:20271031T010000
END:STANDARD
END:VTIMEZONE
BEGIN:VEVENT
DTSTART;TZID=Europe/Berlin:20260423T090000
DTEND;TZID=Europe/Berlin:20260423T120000
DTSTAMP:20260421T170023
CREATED:20260401T202023Z
LAST-MODIFIED:20260401T202023Z
UID:1171-1776934800-1776945600@tobias-heller.de
SUMMARY:Das Fraktionsmobil kommt nach Mügeln!
DESCRIPTION:Das Fraktionsmobil der AfD-Landtagsfraktion kommt am Donnerstag\, den 23.04.2026 in der Zeit von 9 bis 12 Uhr auf den Marktplatz in Mügeln. Wir freuen uns auf gute Gespräche und beantworten gern ihre Fragen und informieren über unsere Arbeit im Sächsischen Landtag.
URL:https://tobias-heller.de/event/das-fraktionsmobil-kommt-nach-muegeln/
CATEGORIES:Termine
END:VEVENT
END:VCALENDAR