BEGIN:VCALENDAR
VERSION:2.0
PRODID:-//Tobias Heller - ECPv6.15.11//NONSGML v1.0//EN
CALSCALE:GREGORIAN
METHOD:PUBLISH
X-WR-CALNAME:Tobias Heller
X-ORIGINAL-URL:https://tobias-heller.de
X-WR-CALDESC:Veranstaltungen für Tobias Heller
REFRESH-INTERVAL;VALUE=DURATION:PT1H
X-Robots-Tag:noindex
X-PUBLISHED-TTL:PT1H
BEGIN:VTIMEZONE
TZID:Europe/Berlin
BEGIN:DAYLIGHT
TZOFFSETFROM:+0100
TZOFFSETTO:+0200
TZNAME:CEST
DTSTART:20250330T010000
END:DAYLIGHT
BEGIN:STANDARD
TZOFFSETFROM:+0200
TZOFFSETTO:+0100
TZNAME:CET
DTSTART:20251026T010000
END:STANDARD
BEGIN:DAYLIGHT
TZOFFSETFROM:+0100
TZOFFSETTO:+0200
TZNAME:CEST
DTSTART:20260329T010000
END:DAYLIGHT
BEGIN:STANDARD
TZOFFSETFROM:+0200
TZOFFSETTO:+0100
TZNAME:CET
DTSTART:20261025T010000
END:STANDARD
BEGIN:DAYLIGHT
TZOFFSETFROM:+0100
TZOFFSETTO:+0200
TZNAME:CEST
DTSTART:20270328T010000
END:DAYLIGHT
BEGIN:STANDARD
TZOFFSETFROM:+0200
TZOFFSETTO:+0100
TZNAME:CET
DTSTART:20271031T010000
END:STANDARD
END:VTIMEZONE
BEGIN:VEVENT
DTSTART;TZID=Europe/Berlin:20260416T153000
DTEND;TZID=Europe/Berlin:20260416T160000
DTSTAMP:20260421T170024
CREATED:20260401T202704Z
LAST-MODIFIED:20260401T202704Z
UID:1185-1776353400-1776355200@tobias-heller.de
SUMMARY:Spatenstich GlasLab Torgau
DESCRIPTION:
URL:https://tobias-heller.de/event/spatenstich-glaslab-torgau/
CATEGORIES:Termine
END:VEVENT
BEGIN:VEVENT
DTSTART;TZID=Europe/Berlin:20260416T183000
DTEND;TZID=Europe/Berlin:20260416T200000
DTSTAMP:20260421T170024
CREATED:20260401T202749Z
LAST-MODIFIED:20260401T202749Z
UID:1187-1776364200-1776369600@tobias-heller.de
SUMMARY:Stadtratssitzung Rathaus Oschatz
DESCRIPTION:
URL:https://tobias-heller.de/event/stadtratssitzung-rathaus-oschatz/
CATEGORIES:Termine
END:VEVENT
END:VCALENDAR